BEGIN:VCALENDAR
VERSION:2.0
PRODID:-//Fishline - ECPv6.15.20//NONSGML v1.0//EN
CALSCALE:GREGORIAN
METHOD:PUBLISH
X-WR-CALNAME:Fishline
X-ORIGINAL-URL:https://fishlinehelps.org
X-WR-CALDESC:Events for Fishline
REFRESH-INTERVAL;VALUE=DURATION:PT1H
X-Robots-Tag:noindex
X-PUBLISHED-TTL:PT1H
BEGIN:VTIMEZONE
TZID:America/Los_Angeles
BEGIN:DAYLIGHT
TZOFFSETFROM:-0800
TZOFFSETTO:-0700
TZNAME:PDT
DTSTART:20250309T100000
END:DAYLIGHT
BEGIN:STANDARD
TZOFFSETFROM:-0700
TZOFFSETTO:-0800
TZNAME:PST
DTSTART:20251102T090000
END:STANDARD
BEGIN:DAYLIGHT
TZOFFSETFROM:-0800
TZOFFSETTO:-0700
TZNAME:PDT
DTSTART:20260308T100000
END:DAYLIGHT
BEGIN:STANDARD
TZOFFSETFROM:-0700
TZOFFSETTO:-0800
TZNAME:PST
DTSTART:20261101T090000
END:STANDARD
BEGIN:DAYLIGHT
TZOFFSETFROM:-0800
TZOFFSETTO:-0700
TZNAME:PDT
DTSTART:20270314T100000
END:DAYLIGHT
BEGIN:STANDARD
TZOFFSETFROM:-0700
TZOFFSETTO:-0800
TZNAME:PST
DTSTART:20271107T090000
END:STANDARD
END:VTIMEZONE
BEGIN:VEVENT
DTSTART;TZID=America/Los_Angeles:20260417T173000
DTEND;TZID=America/Los_Angeles:20260417T213000
DTSTAMP:20260424T093526
CREATED:20260317T015016Z
LAST-MODIFIED:20260317T015016Z
UID:13945-1776447000-1776461400@fishlinehelps.org
SUMMARY:Fishline's Together We Thrive Spring Gala
DESCRIPTION:You’re invited to Fishline’s Annual Spring Gala and Fundraiser at the beautiful Kiana Lodge in Poulsbo on Friday\, April 17th. Join us for an enchanting evening featuring live music\, delightful games\, and meaningful connection—all in support of neighbors facing challenging times.\n\nReserve your table by April 1st to receive 10% off. Individual tickets are $100.\n\nWe are honored to have Sasha Summer Cousineau as our emcee and auctioneer. Here is more information about Sasha:\nSasha Summer Cousineau is a fundraising auctioneer\, gala emcee\, wedding officiant\, fundraising and event planning consultant based in Seattle\, WA. As the owner of Revel Rouser events\, Sasha is living her “Occupassion” every time she gets to serve local non-profits and educational institutions. A lifelong performer\, Sasha’s magnetism on the microphone commands a room\, galvanizing donors’ missions\, values\, and impacts. She is thrilled to serve as your fundraising auctioneer this evening and thanks you for your generous support of Fishline.\n\nFor tickets or information about event sponsorship\, visit our website nk.fishlinehelps.org/togetherwethrive or contact amanda@fishlinehelps.org.
URL:https://fishlinehelps.org/event/fishlines-together-we-thrive-spring-gala/
LOCATION:Kiana Lodge\, 14976 Sandy Hook Rd NE\, Poulsbo\, WA\, 98370
END:VEVENT
END:VCALENDAR