BEGIN:VCALENDAR
VERSION:2.0
PRODID:-//Fishline - ECPv6.15.20//NONSGML v1.0//EN
CALSCALE:GREGORIAN
METHOD:PUBLISH
X-WR-CALNAME:Fishline
X-ORIGINAL-URL:https://fishlinehelps.org
X-WR-CALDESC:Events for Fishline
REFRESH-INTERVAL;VALUE=DURATION:PT1H
X-Robots-Tag:noindex
X-PUBLISHED-TTL:PT1H
BEGIN:VTIMEZONE
TZID:America/Los_Angeles
BEGIN:DAYLIGHT
TZOFFSETFROM:-0800
TZOFFSETTO:-0700
TZNAME:PDT
DTSTART:20240310T100000
END:DAYLIGHT
BEGIN:STANDARD
TZOFFSETFROM:-0700
TZOFFSETTO:-0800
TZNAME:PST
DTSTART:20241103T090000
END:STANDARD
BEGIN:DAYLIGHT
TZOFFSETFROM:-0800
TZOFFSETTO:-0700
TZNAME:PDT
DTSTART:20250309T100000
END:DAYLIGHT
BEGIN:STANDARD
TZOFFSETFROM:-0700
TZOFFSETTO:-0800
TZNAME:PST
DTSTART:20251102T090000
END:STANDARD
BEGIN:DAYLIGHT
TZOFFSETFROM:-0800
TZOFFSETTO:-0700
TZNAME:PDT
DTSTART:20260308T100000
END:DAYLIGHT
BEGIN:STANDARD
TZOFFSETFROM:-0700
TZOFFSETTO:-0800
TZNAME:PST
DTSTART:20261101T090000
END:STANDARD
BEGIN:DAYLIGHT
TZOFFSETFROM:-0800
TZOFFSETTO:-0700
TZNAME:PDT
DTSTART:20270314T100000
END:DAYLIGHT
BEGIN:STANDARD
TZOFFSETFROM:-0700
TZOFFSETTO:-0800
TZNAME:PST
DTSTART:20271107T090000
END:STANDARD
END:VTIMEZONE
BEGIN:VEVENT
DTSTART;TZID=America/Los_Angeles:20260214T100000
DTEND;TZID=America/Los_Angeles:20260214T233000
DTSTAMP:20260424T140113
CREATED:20251216T163056Z
LAST-MODIFIED:20251216T163056Z
UID:13523-1771063200-1771111800@fishlinehelps.org
SUMMARY:theFOODproject: Community Food Drive
DESCRIPTION:Every other month\, organizers share a county-wide wish list that includes items most needed by the member organizations of the Kitsap County Food Bank Coalition. This means that instead of guessing what’s needed\, theFOODproject donors can confidently donate\, knowing their contributions will directly meet the needs of families throughout Kitsap County. \nAs this program grows\, it has the power to consistently bring in tens of thousands of pounds of targeted donations\, transforming how we meet the demand for food and essential products across Kitsap County. Our ultimate goal is to foster a stronger sense of community while ensuring no one goes hungry. Together\, we can build a network that nourishes people and connections. The result? Fully stocked shelves and less waste ensure our clients can always find what they need\, and donors feel the impact they are making. \nSign up today to be a Neighborhood Coordinator (NC)! Each NC will bring in an average of $3\,000 worth of products yearly by rallying 5-10 donors to join them in doing JUST 6 food drives a year. Help Kitsap and Mason County reach our goal of bringing in 20\,000 pounds of food each food drive by the end of 2026! \nLearn more by visiting our theFOODproject page HERE.
URL:https://fishlinehelps.org/event/thefoodproject-community-food-drive-5/
LOCATION:Fishline\, 19705 Viking Ave NW\, Poulsbo\, WA\, 98370\, United States
END:VEVENT
BEGIN:VEVENT
DTSTART;TZID=America/Los_Angeles:20260126T173000
DTEND;TZID=America/Los_Angeles:20260126T183000
DTSTAMP:20260424T140113
CREATED:20260106T220018Z
LAST-MODIFIED:20260106T220018Z
UID:13610-1769448600-1769452200@fishlinehelps.org
SUMMARY:Free Financial Education Workshop: Managing Your Money
DESCRIPTION:
URL:https://fishlinehelps.org/event/free-financial-education-workshop-managing-your-money/
LOCATION:Fishline\, 19705 Viking Ave NW\, Poulsbo\, WA\, 98370\, United States
END:VEVENT
BEGIN:VEVENT
DTSTART;VALUE=DATE:20260101
DTEND;VALUE=DATE:20260102
DTSTAMP:20260424T140113
CREATED:20251216T160255Z
LAST-MODIFIED:20251216T160312Z
UID:13516-1767225600-1767311999@fishlinehelps.org
SUMMARY:Fishline is Closed for the Holiday
DESCRIPTION:Fishline will be closed for New Year’s Day on Thursday\, January 1st. We will reopen on Friday\, January 2nd for regular business hours.
URL:https://fishlinehelps.org/event/fishline-is-closed-for-the-holiday-2/
LOCATION:WA
END:VEVENT
BEGIN:VEVENT
DTSTART;TZID=America/Los_Angeles:20251225T080000
DTEND;TZID=America/Los_Angeles:20251225T170000
DTSTAMP:20260424T140113
CREATED:20250108T002109Z
LAST-MODIFIED:20250108T002109Z
UID:12173-1766649600-1766682000@fishlinehelps.org
SUMMARY:Fishline is Closed for the Holiday
DESCRIPTION:Fishline is closed on Thursday\, December 25 for the holiday.
URL:https://fishlinehelps.org/event/fishline-is-closed-for-the-holiday/
LOCATION:WA
END:VEVENT
BEGIN:VEVENT
DTSTART;TZID=America/Los_Angeles:20251213T183000
DTEND;TZID=America/Los_Angeles:20251213T200000
DTSTAMP:20260424T140113
CREATED:20251204T231127Z
LAST-MODIFIED:20251204T233821Z
UID:13430-1765650600-1765656000@fishlinehelps.org
SUMMARY:Take a Walk Through Christmas\, Benefit for Fishline
DESCRIPTION:Join us for an evening full of holiday cheer on Saturday\, December 13th! At 6:30 PM\, enjoy The Twelve Days of Christmas skit\, followed by a short intermission with crafts\, cookies\, and fellowship. Then at 7 PM\, be inspired by a Christmas Choir Festival featuring performances from Crosspoint Christian School Choir\, True North Choir\, and North Point Choir.\nAfter the music\, stick around for cookies and hot cocoa!  This event is a fundraiser for Fishline—entry is a non-perishable food item or a suggested donation of $5 per family (not required).
URL:https://fishlinehelps.org/event/take-a-walk-through-christmas-benefit-for-fishline/
LOCATION:North Point Church\, 1779 NE Hostmark St\, Poulsbo\, WA\, 98370\, United States
END:VEVENT
BEGIN:VEVENT
DTSTART;TZID=America/Los_Angeles:20251213T100000
DTEND;TZID=America/Los_Angeles:20251213T170000
DTSTAMP:20260424T140113
CREATED:20250520T070411Z
LAST-MODIFIED:20250520T070411Z
UID:12644-1765620000-1765645200@fishlinehelps.org
SUMMARY:theFOODproject: Community Food Drive
DESCRIPTION:Every other month\, organizers share a county-wide wish list that includes items most needed by the member organizations of the Kitsap County Food Bank Coalition. This means that instead of guessing what’s needed\, theFOODproject donors can confidently donate\, knowing their contributions will directly meet the needs of families throughout Kitsap County. Join us on Saturday\, December 13th for our last theFOODproject food drive of the year. We will accept donations at Fishline from 10am to 5pm. Proceeds will go to support both Fishline and ShareNet. \nAs this program grows\, it has the power to consistently bring in tens of thousands of pounds of targeted donations\, transforming how we meet the demand for food and essential products across Kitsap County. Our ultimate goal is to foster a stronger sense of community while ensuring no one goes hungry. Together\, we can build a network that nourishes people and connections. The result? Fully stocked shelves and less waste ensure our clients can always find what they need\, and donors feel the impact they are making. \nSign up today to be a Neighborhood Coordinator (NC)! Each NC will bring in an average of $3\,000 worth of products yearly by rallying 5-10 donors to join them in doing JUST 6 food drives a year. Help Kitsap and Mason County reach our goal of bringing in 20\,000 pounds of food each food drive by the end of 2025! \nLearn more by visiting our theFOODproject page HERE.
URL:https://fishlinehelps.org/event/thefoodproject-community-food-drive-3/
LOCATION:WA
END:VEVENT
BEGIN:VEVENT
DTSTART;VALUE=DATE:20251202
DTEND;VALUE=DATE:20251203
DTSTAMP:20260424T140113
CREATED:20250122T060816Z
LAST-MODIFIED:20250122T060816Z
UID:12252-1764633600-1764719999@fishlinehelps.org
SUMMARY:Giving Tuesday
DESCRIPTION:
URL:https://fishlinehelps.org/event/giving-tuesday-2/
LOCATION:Virtual
END:VEVENT
BEGIN:VEVENT
DTSTART;VALUE=DATE:20251127
DTEND;VALUE=DATE:20251128
DTSTAMP:20260424T140113
CREATED:20250108T001755Z
LAST-MODIFIED:20250108T001755Z
UID:12171-1764201600-1764287999@fishlinehelps.org
SUMMARY:Fishline Closed for Thanksgiving Day
DESCRIPTION:Fishline is closed for the Thanksgiving holiday on Thursday\, November 27.
URL:https://fishlinehelps.org/event/fishline-closed-for-thanksgiving-day/
LOCATION:WA
END:VEVENT
BEGIN:VEVENT
DTSTART;TZID=America/Los_Angeles:20251120T080000
DTEND;TZID=America/Los_Angeles:20251120T090000
DTSTAMP:20260424T140113
CREATED:20250122T060713Z
LAST-MODIFIED:20250122T060713Z
UID:12250-1763625600-1763629200@fishlinehelps.org
SUMMARY:Fishline's Donor Gratitude Breakfast
DESCRIPTION:
URL:https://fishlinehelps.org/event/fishlines-donor-gratitude-breakfast/
LOCATION:North Point Church\, 1779 NE Hostmark St\, Poulsbo\, WA\, 98370\, United States
END:VEVENT
BEGIN:VEVENT
DTSTART;VALUE=DATE:20251118
DTEND;VALUE=DATE:20251123
DTSTAMP:20260424T140113
CREATED:20250122T060502Z
LAST-MODIFIED:20250122T060522Z
UID:12247-1763424000-1763855999@fishlinehelps.org
SUMMARY:Give and Grow Virtual Auction
DESCRIPTION:
URL:https://fishlinehelps.org/event/give-and-grow-virtual-auction/
LOCATION:Virtual
END:VEVENT
BEGIN:VEVENT
DTSTART;VALUE=DATE:20251021
DTEND;VALUE=DATE:20251022
DTSTAMP:20260424T140113
CREATED:20250122T060401Z
LAST-MODIFIED:20250122T060401Z
UID:12245-1761004800-1761091199@fishlinehelps.org
SUMMARY:Fishline's Scare Away Hunger
DESCRIPTION:
URL:https://fishlinehelps.org/event/fishlines-scare-away-hunger/
LOCATION:Nordic Hill Manor\, 13913 S Keyport Rd NE\, Poulsbo\, WA\, 98370\, United States
END:VEVENT
BEGIN:VEVENT
DTSTART;TZID=America/Los_Angeles:20251019T100000
DTEND;TZID=America/Los_Angeles:20251019T140000
DTSTAMP:20260424T140113
CREATED:20251008T233416Z
LAST-MODIFIED:20251008T233416Z
UID:13081-1760868000-1760882400@fishlinehelps.org
SUMMARY:Stuff the Truck: A Community Giving Event at Maynard's
DESCRIPTION:Join us at Maynard’s on Sunday\, October 19\, 2025\, from 10am–2pm for a day of generosity and community spirit! We’re teaming up with Fishline of Poulsbo and Second Season Boutique to “Stuff the Truck” full of essential items that directly support local families in need.\n\nBring your donations of gently used clothing\, non-perishable food\, and household goods\, and help us make a meaningful impact right here in our community. The collection truck will be stationed in Maynard’s lower parking lot\, making it easy to drop off your contributions.\n\nFull list of items accepted: https://fishlinehelps.org/get-involved/second-season/\nFishline’s most needed items: https://fishlinehelps.org/most-needed-items/\n\nTogether\, we can fill the truck—and fill hearts—with kindness.
URL:https://fishlinehelps.org/event/stuff-the-truck-a-community-giving-event-at-maynards/
LOCATION:Maynard’s\, 2251 NW Bucklin Hill Rd\, Silverdale\, WA\, 98370\, United States
END:VEVENT
BEGIN:VEVENT
DTSTART;TZID=America/Los_Angeles:20251011T100000
DTEND;TZID=America/Los_Angeles:20251011T170000
DTSTAMP:20260424T140113
CREATED:20250520T070418Z
LAST-MODIFIED:20250520T070418Z
UID:12642-1760176800-1760202000@fishlinehelps.org
SUMMARY:theFOODproject: Community Food Drive
DESCRIPTION:Every other month\, organizers share a county-wide wish list that includes items most needed by the member organizations of the Kitsap County Food Bank Coalition. This means that instead of guessing what’s needed\, theFOODproject donors can confidently donate\, knowing their contributions will directly meet the needs of families throughout Kitsap County. Join us on Saturday\, October 11th. We will accept donations at Fishline from 10am to 5pm. Proceeds will go to support both Fishline and ShareNet. \nAs this program grows\, it has the power to consistently bring in tens of thousands of pounds of targeted donations\, transforming how we meet the demand for food and essential products across Kitsap County. Our ultimate goal is to foster a stronger sense of community while ensuring no one goes hungry. Together\, we can build a network that nourishes people and connections. The result? Fully stocked shelves and less waste ensure our clients can always find what they need\, and donors feel the impact they are making. \nSign up today to be a Neighborhood Coordinator (NC)! Each NC will bring in an average of $3\,000 worth of products yearly by rallying 5-10 donors to join them in doing JUST 6 food drives a year. Help Kitsap and Mason County reach our goal of bringing in 20\,000 pounds of food each food drive by the end of 2025! \nLearn more by visiting our theFOODproject page HERE.
URL:https://fishlinehelps.org/event/thefoodproject-community-food-drive-4/
LOCATION:Fishline\, 19705 Viking Ave NW\, Poulsbo\, WA\, 98370\, United States
END:VEVENT
BEGIN:VEVENT
DTSTART;TZID=America/Los_Angeles:20250920T090000
DTEND;TZID=America/Los_Angeles:20250920T120000
DTSTAMP:20260424T140113
CREATED:20250826T070826Z
LAST-MODIFIED:20250826T070826Z
UID:12925-1758358800-1758369600@fishlinehelps.org
SUMMARY:Shred to Fed - Kitsap Bank FUNdraiser
DESCRIPTION:Kitsap Bank is pleased to partner with the North Kitsap Foodline and hosting a Shred Event on Saturday\, September 20th from 9am to Noon at Kitsap Bank’s Poulsbo Branch. Must make a monetary donation to get your documents shredded. All donations raised at these events will go to supporting the North Kitsap Foodline. Maximum of 75 pounds of shred per vehicle.
URL:https://fishlinehelps.org/event/shred-to-fed-kitsap-bank-fundraiser/
LOCATION:Kitsap Bank Poulsbo\, 19725 7th Ave NE\, Poulsbo\, WA\, 98370\, United States
END:VEVENT
BEGIN:VEVENT
DTSTART;TZID=America/Los_Angeles:20250914T110000
DTEND;TZID=America/Los_Angeles:20250914T150000
DTSTAMP:20260424T140113
CREATED:20250826T070304Z
LAST-MODIFIED:20250826T070304Z
UID:12923-1757847600-1757862000@fishlinehelps.org
SUMMARY:Shop and Share Sunday\, Safeway
DESCRIPTION:Stop by Safeway in Poulsbo this Sunday\, September 14th\, for Shop & Share Sunday!  From 11 AM to 3 PM\, Fishline staff and volunteers will be there collecting donations of non-perishable foods to help stock our market.Want to know what’s most needed? Check out our shopping list here: https://fishlinehelps.org/most-needed-items/
URL:https://fishlinehelps.org/event/shop-and-share-sunday-safeway/
LOCATION:Safeway – Poulsbo\, 19245 10th Ave NE\, Poulsbo\, WA\, 98370\, United States
END:VEVENT
BEGIN:VEVENT
DTSTART;TZID=America/Los_Angeles:20250907T110000
DTEND;TZID=America/Los_Angeles:20250907T150000
DTSTAMP:20260424T140113
CREATED:20250826T065444Z
LAST-MODIFIED:20250826T065444Z
UID:12921-1757242800-1757257200@fishlinehelps.org
SUMMARY:Shop and Share Sunday\, Town & Country
DESCRIPTION:Join us this Sunday\, September 7th\, for Shop & Share Sunday at Town & Country in Poulsbo!  From 11 AM to 3 PM\, Fishline staff and volunteers will be on-site collecting donations of non-perishable items for our market.Visit our website for a shopping list of our most-needed items: https://fishlinehelps.org/most-needed-items/
URL:https://fishlinehelps.org/event/shop-and-share-sunday-town-country/
LOCATION:Town and Country Poulsbo\, 20148 10th Avenue Northeast\, Poulsbo\, WA\, 98370\, United States
END:VEVENT
BEGIN:VEVENT
DTSTART;TZID=America/Los_Angeles:20250906T120000
DTEND;TZID=America/Los_Angeles:20250906T170000
DTSTAMP:20260424T140113
CREATED:20250826T071324Z
LAST-MODIFIED:20250826T071324Z
UID:12929-1757160000-1757178000@fishlinehelps.org
SUMMARY:Town & Country Poulsbo: Cheers to 30 Years
DESCRIPTION:Join us to celebrate three decades serving the Poulsbo and nearby communities.\n\n\nSaturday\, Sept 6\, 12-5 pm: \n\nFamily fun and games in the parking lot\nGrilled hotdog and chips fundraiser for Fishline\nGreat deals on BBQ Sandwiches\nPizza slice & pop for $1.50\nLive music on the Field House patio\nHave a piece of our birthday cake\n\nAnniversary deals throughout the market all weekend! – Fri\, Sept 6- Sun\, Sept 8
URL:https://fishlinehelps.org/event/town-country-poulsbo-cheers-to-30-years/
LOCATION:Town and Country Poulsbo\, 20148 10th Avenue Northeast\, Poulsbo\, WA\, 98370\, United States
END:VEVENT
BEGIN:VEVENT
DTSTART;TZID=America/Los_Angeles:20250906T100000
DTEND;TZID=America/Los_Angeles:20250906T140000
DTSTAMP:20260424T140113
CREATED:20250826T071621Z
LAST-MODIFIED:20250826T200518Z
UID:12931-1757152800-1757167200@fishlinehelps.org
SUMMARY:Poulsbo Kids Day 2025
DESCRIPTION:Poulsbo Kids Day 2025 is coming on Sept. 6!\nhttps://tinyurl.com/4uxnrcu7\n\nWhat’s in store for families:\n• Fire truck displays & tours\n• Kids bike safety rodeo\n• Creative craft booths\n• Exciting martial arts performances\n• Delicious food vendors (pizza\, ice cream\, tacos)\n• Dunk tank challenge\n• Amazing prizes for the kids!\n\nTake non-perishable food items or cash donations for Fishline and you’ll be entered for a chance to win a prize!
URL:https://fishlinehelps.org/event/poulsbo-kids-day-2025/
LOCATION:1st Security Bank – Poulsbo
END:VEVENT
BEGIN:VEVENT
DTSTART;TZID=America/Los_Angeles:20250824T140000
DTEND;TZID=America/Los_Angeles:20250824T170000
DTSTAMP:20260424T140113
CREATED:20250122T060241Z
LAST-MODIFIED:20250822T175538Z
UID:12243-1756044000-1756054800@fishlinehelps.org
SUMMARY:Fishline's Street Eats for a Cause
DESCRIPTION:Join us on August 24th for Fishline’s Street Eats for a Cause\, an upbeat parking lot party with a purpose! This community fundraiser will feature delicious eats from local food vendors\, a festive beer garden\, fun games\, and live music that’ll keep the good vibes rolling. Let’s make a difference—one bite\, beat\, and beer at a time! \nInterested in becoming a sponsor?  It’s the perfect opportunity for your business to support a great cause! Contact amanda@fishlinehelps.org of visit nk.fishlinehelps.org/streeteats2025 to learn about our different event sponsorship levels.
URL:https://fishlinehelps.org/event/fishlines-street-eats-for-a-cause/
LOCATION:Fishline\, 19705 Viking Ave NW\, Poulsbo\, WA\, 98370\, United States
END:VEVENT
BEGIN:VEVENT
DTSTART;TZID=America/Los_Angeles:20250812T180000
DTEND;TZID=America/Los_Angeles:20250812T200000
DTSTAMP:20260424T140113
CREATED:20250709T191540Z
LAST-MODIFIED:20250709T201330Z
UID:12833-1755021600-1755028800@fishlinehelps.org
SUMMARY:Summer Nights at the Bay\, Free Family Concert and Food Drive
DESCRIPTION:Poulsbo Parks and Recreation will host their FREE Summer Nights at the Bay Concert Series on Tuesday\, nights until August 12th. Stop by our Fishline table to say hello\, learn about upcoming events and volunteer opportunities! We will be accepting non perishable food donations.
URL:https://fishlinehelps.org/event/summer-nights-at-the-bay-free-family-concert-and-food-drive-5/
LOCATION:Muriel Iverson Waterfront Park & Kvellstad Pavillion\, 18809 Anderson Pkwy\, Poulsbo\, WA\, 98370\, United States
END:VEVENT
BEGIN:VEVENT
DTSTART;TZID=America/Los_Angeles:20250809T120000
DTEND;TZID=America/Los_Angeles:20250809T160000
DTSTAMP:20260424T140113
CREATED:20250731T201616Z
LAST-MODIFIED:20250731T201616Z
UID:12885-1754740800-1754755200@fishlinehelps.org
SUMMARY:T & C Giving Together Fundraiser: Elote
DESCRIPTION:Stop by Poulsbo Town & Country Market on Saturday Aug 9th and pick up a summery treat for a good cause. We’ll be out front grilling up some delicious street corn and selling it for a suggested donation of $5. All proceeds go to benefit Fishline through our Giving Together program.
URL:https://fishlinehelps.org/event/t-c-giving-together-fundraiser-elote/
LOCATION:Town and Country Poulsbo\, 20148 10th Avenue Northeast\, Poulsbo\, WA\, 98370\, United States
END:VEVENT
BEGIN:VEVENT
DTSTART;TZID=America/Los_Angeles:20250809T100000
DTEND;TZID=America/Los_Angeles:20250809T170000
DTSTAMP:20260424T140113
CREATED:20250520T065445Z
LAST-MODIFIED:20250520T065445Z
UID:12640-1754733600-1754758800@fishlinehelps.org
SUMMARY:theFOODproject: Community Food Drive
DESCRIPTION:Kitsap and Mason County Food Banks are joining together in a collaborative effort to fight hunger smarter and more efficiently. \nEvery other month\, organizers share a county-wide wish list that includes items most needed by the member organizations of the Kitsap County Food Bank Coalition. This means that instead of guessing what’s needed\, theFOODproject donors can confidently donate\, knowing their contributions will directly meet the needs of families throughout Kitsap County. Join us on Saturday\, August 9th. We will accept donations at Fishline from 10am to 5pm. Proceeds will go to support both Fishline and ShareNet. \nAs this program grows\, it has the power to consistently bring in tens of thousands of pounds of targeted donations\, transforming how we meet the demand for food and essential products across Kitsap County. Our ultimate goal is to foster a stronger sense of community while ensuring no one goes hungry. Together\, we can build a network that nourishes people and connections. The result? Fully stocked shelves and less waste ensure our clients can always find what they need\, and donors feel the impact they are making. \nSign up today to be a Neighborhood Coordinator (NC)! Each NC will bring in an average of $3\,000 worth of products yearly by rallying 5-10 donors to join them in doing JUST 6 food drives a year. Help Kitsap and Mason County reach our goal of bringing in 20\,000 pounds of food each food drive by the end of 2025! \nLearn more by visiting our theFOODproject page HERE.
URL:https://fishlinehelps.org/event/thefoodproject-community-food-drive-2/
LOCATION:Fishline\, 19705 Viking Ave NW\, Poulsbo\, WA\, 98370\, United States
END:VEVENT
BEGIN:VEVENT
DTSTART;TZID=America/Los_Angeles:20250805T180000
DTEND;TZID=America/Los_Angeles:20250805T200000
DTSTAMP:20260424T140113
CREATED:20250709T191338Z
LAST-MODIFIED:20250709T201348Z
UID:12831-1754416800-1754424000@fishlinehelps.org
SUMMARY:Summer Nights at the Bay\, Free Family Concert and Food Drive
DESCRIPTION:Poulsbo Parks and Recreation will host their FREE Summer Nights at the Bay Concert Series on Tuesday\, nights until August 12th. Stop by our Fishline table to say hello\, learn about upcoming events and volunteer opportunities! We will be accepting non perishable food donations.
URL:https://fishlinehelps.org/event/summer-nights-at-the-bay-free-family-concert-and-food-drive-4/
LOCATION:Muriel Iverson Waterfront Park & Kvellstad Pavillion\, 18809 Anderson Pkwy\, Poulsbo\, WA\, 98370\, United States
END:VEVENT
BEGIN:VEVENT
DTSTART;TZID=America/Los_Angeles:20250729T180000
DTEND;TZID=America/Los_Angeles:20250729T200000
DTSTAMP:20260424T140113
CREATED:20250709T191139Z
LAST-MODIFIED:20250709T191359Z
UID:12829-1753812000-1753819200@fishlinehelps.org
SUMMARY:Summer Nights at the Bay\, Free Family Concert and Food Drive
DESCRIPTION:Poulsbo Parks and Recreation will host their FREE Summer Nights at the Bay Concert Series on Tuesday\, nights until August 12th. Stop by our Fishline table to say hello\, learn about upcoming events and volunteer opportunities! We will be accepting non perishable food donations.
URL:https://fishlinehelps.org/event/summer-nights-at-the-bay-free-family-concert-and-food-drive-3/
LOCATION:Muriel Iverson Waterfront Park & Kvellstad Pavillion\, 18809 Anderson Pkwy\, Poulsbo\, WA\, 98370\, United States
END:VEVENT
BEGIN:VEVENT
DTSTART;TZID=America/Los_Angeles:20250726T110000
DTEND;TZID=America/Los_Angeles:20250726T150000
DTSTAMP:20260424T140113
CREATED:20250626T042515Z
LAST-MODIFIED:20250731T200840Z
UID:12772-1753527600-1753542000@fishlinehelps.org
SUMMARY:T & C Giving Together Fundraiser: Root Beer Floats
DESCRIPTION:Stop by Town & Country Market in Poulsbo on Saturday\, July 26th from 11am to 3pm and pick up a sweet treat for a good cause. Town and Country and Fishline staff will be selling delicious root beer floats for a suggested donation of $5. All proceeds go to benefit Fishline through Town & Country’s Giving Together program.
URL:https://fishlinehelps.org/event/t-c-giving-together-fundraiser-root-beer-floats/
LOCATION:Town and Country Poulsbo\, 20148 10th Avenue Northeast\, Poulsbo\, WA\, 98370\, United States
END:VEVENT
BEGIN:VEVENT
DTSTART;TZID=America/Los_Angeles:20250722T180000
DTEND;TZID=America/Los_Angeles:20250722T200000
DTSTAMP:20260424T140113
CREATED:20250709T190832Z
LAST-MODIFIED:20250709T190832Z
UID:12827-1753207200-1753214400@fishlinehelps.org
SUMMARY:Summer Nights at the Bay\, Free Family Concert and Food Drive
DESCRIPTION:Poulsbo Parks and Recreation will host their FREE Summer Nights at the Bay Concert Series on Tuesday\, nights until August 12th. Stop by our Fishline table to say hello\, learn about upcoming events and volunteer opportunities! We will be accepting non perishable food donations.
URL:https://fishlinehelps.org/event/summer-nights-at-the-bay-free-family-concert-and-food-drive-2/
LOCATION:Muriel Iverson Waterfront Park & Kvellstad Pavillion\, 18809 Anderson Pkwy\, Poulsbo\, WA\, 98370\, United States
END:VEVENT
BEGIN:VEVENT
DTSTART;TZID=America/Los_Angeles:20250715T180000
DTEND;TZID=America/Los_Angeles:20250715T200000
DTSTAMP:20260424T140113
CREATED:20250709T190404Z
LAST-MODIFIED:20250709T190928Z
UID:12825-1752602400-1752609600@fishlinehelps.org
SUMMARY:Summer Nights at the Bay\, Free Family Concert and Food Drive
DESCRIPTION:Poulsbo Parks and Recreation will host their FREE Summer Nights at the Bay Concert Series on Tuesday\, nights until August 12th. Stop by our Fishline table to say hello\, learn about upcoming events and volunteer opportunities! We will be accepting non perishable food donations.
URL:https://fishlinehelps.org/event/summer-nights-at-the-bay-free-family-concert-and-food-drive/
LOCATION:Muriel Iverson Waterfront Park & Kvellstad Pavillion\, 18809 Anderson Pkwy\, Poulsbo\, WA\, 98370\, United States
END:VEVENT
BEGIN:VEVENT
DTSTART;TZID=America/Los_Angeles:20250713T110000
DTEND;TZID=America/Los_Angeles:20250713T150000
DTSTAMP:20260424T140113
CREATED:20250624T054340Z
LAST-MODIFIED:20250624T054340Z
UID:12756-1752404400-1752418800@fishlinehelps.org
SUMMARY:Shop and Share Sunday\, Safeway Poulsbo
DESCRIPTION:Stop by Safeway in Poulsbo this Sunday\, July 13th\, for Shop & Share Sunday!  From 11 AM to 3 PM\, Fishline staff and volunteers will be there collecting donations of non-perishable foods to help stock our market.\n\n\n\nWant to know what’s most needed? Check out our shopping list here: https://fishlinehelps.org/most-needed-items/
URL:https://fishlinehelps.org/event/shop-and-share-sunday-safeway-poulsbo/
LOCATION:Safeway – Poulsbo\, 19245 10th Ave NE\, Poulsbo\, WA\, 98370\, United States
END:VEVENT
BEGIN:VEVENT
DTSTART;TZID=America/Los_Angeles:20250706T110000
DTEND;TZID=America/Los_Angeles:20250706T150000
DTSTAMP:20260424T140113
CREATED:20250624T054131Z
LAST-MODIFIED:20250624T054131Z
UID:12754-1751799600-1751814000@fishlinehelps.org
SUMMARY:Shop and Share Sunday\, Town and Country Poulsbo
DESCRIPTION:Join us this Sunday\, July 6th\, for Shop & Share Sunday at Town & Country in Poulsbo!  From 11 AM to 3 PM\, Fishline staff and volunteers will be on-site collecting donations of non-perishable items for our market.\n\n\n\nVisit our website for a shopping list of our most-needed items: https://fishlinehelps.org/most-needed-items/
URL:https://fishlinehelps.org/event/shop-and-share-sunday-town-and-country-poulsbo-6/
LOCATION:Town and Country Poulsbo\, 20148 10th Avenue Northeast\, Poulsbo\, WA\, 98370\, United States
END:VEVENT
BEGIN:VEVENT
DTSTART;VALUE=DATE:20250704
DTEND;VALUE=DATE:20250705
DTSTAMP:20260424T140113
CREATED:20250108T001645Z
LAST-MODIFIED:20251216T160117Z
UID:12169-1751587200-1751673599@fishlinehelps.org
SUMMARY:Fishline Closed for July 4th Holiday
DESCRIPTION:Fishline will be closed on Friday\, July 4th for Independence Day.
URL:https://fishlinehelps.org/event/fishline-closed-for-july-4th-holiday/
LOCATION:WA
END:VEVENT
END:VCALENDAR